
BEGIN:VCALENDAR
VERSION:2.0
PRODID:-//wp-events-plugin.com//7.2.3.1//EN
TZID:Asia/Tokyo
X-WR-TIMEZONE:Asia/Tokyo
BEGIN:VEVENT
UID:113@hizen-kensyu.udb.jp
DTSTART;TZID=Asia/Tokyo;VALUE=DATE:20251009
DTEND;TZID=Asia/Tokyo;VALUE=DATE:20251011
DTSTAMP:20250709T074035Z
URL:https://hizen-kensyu.udb.jp/events/2025shiteinyuin/
SUMMARY:2025年度　司法精神医療等人材養成研修委託事業指
 定「入院」医療機関従事者研修会
DESCRIPTION:※定員数：150名程度\n\n※研修申込責任者の方
 が、施設内でとりまとめて入力して下さい。\n\n※1応募
 につき受講申込者は3名までです。できるだけ異なる職
 種でお申込みください。\n\n※申込者が4名以上の場合、
 3名毎に分けて申し込みをして頂くことになります。\n\n
 ※研修申込責任者は、研修受講者以外でもよいですが
 、連絡や取りまとめ等の窓口となります。
CATEGORIES:司法精神医療等人材養成研修委託事業
LOCATION:肥前精神医療センター　Ｗｅｂ開催\, 三津160\, 吉
 野ヶ里町\, 佐賀県\, 842-0192\, 日本
X-APPLE-STRUCTURED-LOCATION;VALUE=URI;X-ADDRESS=三津160\, 吉野ヶ里町
 \, 佐賀県\, 842-0192\, 日本;X-APPLE-RADIUS=100;X-TITLE=肥前精神
 医療センター　Ｗｅｂ開催:geo:0,0
END:VEVENT
BEGIN:VTIMEZONE
TZID:Asia/Tokyo
X-LIC-LOCATION:Asia/Tokyo
BEGIN:STANDARD
DTSTART:20241009T000000
TZOFFSETFROM:+0900
TZOFFSETTO:+0900
TZNAME:JST
END:STANDARD
END:VTIMEZONE
END:VCALENDAR